BEGIN:VCALENDAR
VERSION:2.0
PRODID:-//Idaho Museum of Mining &amp; Geology - ECPv6.15.20//NONSGML v1.0//EN
CALSCALE:GREGORIAN
METHOD:PUBLISH
X-WR-CALNAME:Idaho Museum of Mining &amp; Geology
X-ORIGINAL-URL:https://www.idahomuseum.org
X-WR-CALDESC:Events for Idaho Museum of Mining &amp; Geology
REFRESH-INTERVAL;VALUE=DURATION:PT1H
X-Robots-Tag:noindex
X-PUBLISHED-TTL:PT1H
BEGIN:VTIMEZONE
TZID:America/Boise
BEGIN:DAYLIGHT
TZOFFSETFROM:-0700
TZOFFSETTO:-0600
TZNAME:MDT
DTSTART:20240310T090000
END:DAYLIGHT
BEGIN:STANDARD
TZOFFSETFROM:-0600
TZOFFSETTO:-0700
TZNAME:MST
DTSTART:20241103T080000
END:STANDARD
BEGIN:DAYLIGHT
TZOFFSETFROM:-0700
TZOFFSETTO:-0600
TZNAME:MDT
DTSTART:20250309T090000
END:DAYLIGHT
BEGIN:STANDARD
TZOFFSETFROM:-0600
TZOFFSETTO:-0700
TZNAME:MST
DTSTART:20251102T080000
END:STANDARD
BEGIN:DAYLIGHT
TZOFFSETFROM:-0700
TZOFFSETTO:-0600
TZNAME:MDT
DTSTART:20260308T090000
END:DAYLIGHT
BEGIN:STANDARD
TZOFFSETFROM:-0600
TZOFFSETTO:-0700
TZNAME:MST
DTSTART:20261101T080000
END:STANDARD
END:VTIMEZONE
BEGIN:VEVENT
DTSTART;TZID=America/Boise:20250713T080000
DTEND;TZID=America/Boise:20250713T130000
DTSTAMP:20260425T220125
CREATED:20250616T224957Z
LAST-MODIFIED:20250617T022004Z
UID:6434-1752393600-1752411600@www.idahomuseum.org
SUMMARY:Willow Creek Jasper Mine Field Trip
DESCRIPTION:This Museum field will take you to a privately owned Jasper Mine in your own backyard. If you love adventure\, a rough road\, and discovering jasper in thunder eggs\, this trip is for you. The trip is limited to 25. Members of the IMMG receive free admission. Non-member fee is $20 plus the Eventbrite fee. Children are free with a minimum age of 7 years. The field trip departs at 8am so plan to arrive at Little Gulch parking lot by 7:45am. Sponsored by Idaho Museum of Mining and Geology (IMMG) 2455 Old Penitentiary Rd. Boise. Pre-registration is required. All details are in the link. \nhttps://www.eventbrite.com/e/willow-creek-jasper-mine-field-trip-tickets-1414314656209?aff=oddtdtcreator \nContact operations@idahomuseum.org if you have questions.
URL:https://www.idahomuseum.org/event/willow-creek-jasper-mine-field-trip/
CATEGORIES:Field Trips,Special Events
ATTACH;FMTTYPE=image/jpeg:https://www.idahomuseum.org/wp-content/uploads/2025/04/IMG_2249.jpg
END:VEVENT
END:VCALENDAR