BEGIN:VCALENDAR
VERSION:2.0
PRODID:-//Idaho Museum of Mining &amp; Geology - ECPv6.15.20//NONSGML v1.0//EN
CALSCALE:GREGORIAN
METHOD:PUBLISH
X-ORIGINAL-URL:https://www.idahomuseum.org
X-WR-CALDESC:Events for Idaho Museum of Mining &amp; Geology
REFRESH-INTERVAL;VALUE=DURATION:PT1H
X-Robots-Tag:noindex
X-PUBLISHED-TTL:PT1H
BEGIN:VTIMEZONE
TZID:America/Boise
BEGIN:DAYLIGHT
TZOFFSETFROM:-0700
TZOFFSETTO:-0600
TZNAME:MDT
DTSTART:20240310T090000
END:DAYLIGHT
BEGIN:STANDARD
TZOFFSETFROM:-0600
TZOFFSETTO:-0700
TZNAME:MST
DTSTART:20241103T080000
END:STANDARD
BEGIN:DAYLIGHT
TZOFFSETFROM:-0700
TZOFFSETTO:-0600
TZNAME:MDT
DTSTART:20250309T090000
END:DAYLIGHT
BEGIN:STANDARD
TZOFFSETFROM:-0600
TZOFFSETTO:-0700
TZNAME:MST
DTSTART:20251102T080000
END:STANDARD
BEGIN:DAYLIGHT
TZOFFSETFROM:-0700
TZOFFSETTO:-0600
TZNAME:MDT
DTSTART:20260308T090000
END:DAYLIGHT
BEGIN:STANDARD
TZOFFSETFROM:-0600
TZOFFSETTO:-0700
TZNAME:MST
DTSTART:20261101T080000
END:STANDARD
END:VTIMEZONE
BEGIN:VEVENT
DTSTART;TZID=America/Boise:20250809T080000
DTEND;TZID=America/Boise:20250809T130000
DTSTAMP:20260423T175707
CREATED:20250625T213727Z
LAST-MODIFIED:20250625T213727Z
UID:6442-1754726400-1754744400@www.idahomuseum.org
SUMMARY:Willow Creek Jasper Mine Field Trip
DESCRIPTION:This Museum field trip meets at 7:45am for an 8am departure to a privately owned Jasper Mine in your own backyard. If you love adventure\, a rough road\, and discovering jasper in thunder eggs\, this trip is for you. The trip is limited to 25. Members of the IMMG receive free admission. Non-member fee is $20 plus the Eventbrite fee. Children are free with a minimum age of 7 years. Sponsored by Idaho Museum of Mining and Geology (IMMG) 2455 Old Penitentiary Rd. Boise. Pre-registration is required. \nhttps://www.eventbrite.com/e/willow-creek-jasper-mine-field-trip-tickets-1435606390359?aff=oddtdtcreator \n  \nContact operations@idahomuseum.org if you have questions.
URL:https://www.idahomuseum.org/event/willow-creek-jasper-mine-field-trip-9/
LOCATION:ID
CATEGORIES:Field Trips,Special Events
ATTACH;FMTTYPE=image/jpeg:https://www.idahomuseum.org/wp-content/uploads/2025/03/IMG_2259001-rotated-e1758199154147.jpg
END:VEVENT
BEGIN:VEVENT
DTSTART;TZID=America/Boise:20250823T080000
DTEND;TZID=America/Boise:20250823T123000
DTSTAMP:20260423T175707
CREATED:20250721T213953Z
LAST-MODIFIED:20250721T213953Z
UID:6463-1755936000-1755952200@www.idahomuseum.org
SUMMARY:Willow Creek Jasper Mine Field Trip
DESCRIPTION:This Museum field trip meets at Little Gulch Parking area by 7:45 AM for an 8 AM departure to a privately owned Jasper Mine in your own backyard. If you love adventure\, a rough road\, and discovering jasper in thunder eggs\, this trip is for you. The trip is limited to 25. Members of the IMMG receive free admission. Non-member fee is $20 plus the Eventbrite fee. Children are free with a minimum age of 7 years. Sponsored by Idaho Museum of Mining and Geology (IMMG) 2455 Old Penitentiary Rd. Boise. Pre-registration is required. \nhttps://www.eventbrite.com/e/willow-creek-jasper-mine-field-trip-tickets-1511050786579?aff=oddtdtcreator \nContact operations@idahomuseum.org if you have questions.
URL:https://www.idahomuseum.org/event/willow-creek-jasper-mine-field-trip-2/
LOCATION:Idaho Museum of Mining and Geology\, 2455 Old Penitentiary Road\, Boise\, ID\, 83712\, United States
CATEGORIES:Field Trips,Special Events
ATTACH;FMTTYPE=image/jpeg:https://www.idahomuseum.org/wp-content/uploads/2025/07/Barb-group-photo.jpg
END:VEVENT
END:VCALENDAR