BEGIN:VCALENDAR
VERSION:2.0
PRODID:-//Idaho Museum of Mining &amp; Geology - ECPv6.15.20//NONSGML v1.0//EN
CALSCALE:GREGORIAN
METHOD:PUBLISH
X-ORIGINAL-URL:https://www.idahomuseum.org
X-WR-CALDESC:Events for Idaho Museum of Mining &amp; Geology
REFRESH-INTERVAL;VALUE=DURATION:PT1H
X-Robots-Tag:noindex
X-PUBLISHED-TTL:PT1H
BEGIN:VTIMEZONE
TZID:America/Boise
BEGIN:DAYLIGHT
TZOFFSETFROM:-0700
TZOFFSETTO:-0600
TZNAME:MDT
DTSTART:20240310T090000
END:DAYLIGHT
BEGIN:STANDARD
TZOFFSETFROM:-0600
TZOFFSETTO:-0700
TZNAME:MST
DTSTART:20241103T080000
END:STANDARD
BEGIN:DAYLIGHT
TZOFFSETFROM:-0700
TZOFFSETTO:-0600
TZNAME:MDT
DTSTART:20250309T090000
END:DAYLIGHT
BEGIN:STANDARD
TZOFFSETFROM:-0600
TZOFFSETTO:-0700
TZNAME:MST
DTSTART:20251102T080000
END:STANDARD
BEGIN:DAYLIGHT
TZOFFSETFROM:-0700
TZOFFSETTO:-0600
TZNAME:MDT
DTSTART:20260308T090000
END:DAYLIGHT
BEGIN:STANDARD
TZOFFSETFROM:-0600
TZOFFSETTO:-0700
TZNAME:MST
DTSTART:20261101T080000
END:STANDARD
END:VTIMEZONE
BEGIN:VEVENT
DTSTART;TZID=America/Boise:20251116T120000
DTEND;TZID=America/Boise:20251116T160000
DTSTAMP:20260423T113049
CREATED:20251015T215450Z
LAST-MODIFIED:20251015T215450Z
UID:6541-1763294400-1763308800@www.idahomuseum.org
SUMMARY:Santa's Rock Shop🎅
DESCRIPTION:Santa’s Rock Shop is a rockin’ event happening at the Idaho Museum of Mining and Geology\, 2455 Old Penitentiary Rd. Boise! You’ll see stocking stuffers starting at 50 cents\, rocks\, minerals\, quartzite polished bookends\, petrified wood\, books on geology\, rock hounding and prospecting\, jewelry\, mood rings\, maps\, and much more for all ages. All merchandize is 20% off. Free Admission. \nDon’t miss out on this rockin’ one-time event that runs Noon-4pm! Registration is NOT required\, but gives us an idea of numbers. https://www.eventbrite.com/e/santas-rock-shop-tickets-1808707174849?aff=oddtdtcreator No limit on the number of visitors. Just show up. \nContact operations@idahomuseum.org if you have questions. \n 
URL:https://www.idahomuseum.org/event/santas-rock-shop%f0%9f%8e%85/
LOCATION:Idaho Museum of Mining and Geology\, 2455 Old Penitentiary Road\, Boise\, ID\, 83712\, United States
CATEGORIES:Special Events
ATTACH;FMTTYPE=image/jpeg:https://www.idahomuseum.org/wp-content/uploads/2025/10/2023-11-04-13.22.26.jpg
END:VEVENT
END:VCALENDAR