BEGIN:VCALENDAR
VERSION:2.0
PRODID:-//Idaho Museum of Mining &amp; Geology - ECPv6.15.20//NONSGML v1.0//EN
CALSCALE:GREGORIAN
METHOD:PUBLISH
X-WR-CALNAME:Idaho Museum of Mining &amp; Geology
X-ORIGINAL-URL:https://www.idahomuseum.org
X-WR-CALDESC:Events for Idaho Museum of Mining &amp; Geology
REFRESH-INTERVAL;VALUE=DURATION:PT1H
X-Robots-Tag:noindex
X-PUBLISHED-TTL:PT1H
BEGIN:VTIMEZONE
TZID:America/Boise
BEGIN:DAYLIGHT
TZOFFSETFROM:-0700
TZOFFSETTO:-0600
TZNAME:MDT
DTSTART:20240310T090000
END:DAYLIGHT
BEGIN:STANDARD
TZOFFSETFROM:-0600
TZOFFSETTO:-0700
TZNAME:MST
DTSTART:20241103T080000
END:STANDARD
BEGIN:DAYLIGHT
TZOFFSETFROM:-0700
TZOFFSETTO:-0600
TZNAME:MDT
DTSTART:20250309T090000
END:DAYLIGHT
BEGIN:STANDARD
TZOFFSETFROM:-0600
TZOFFSETTO:-0700
TZNAME:MST
DTSTART:20251102T080000
END:STANDARD
BEGIN:DAYLIGHT
TZOFFSETFROM:-0700
TZOFFSETTO:-0600
TZNAME:MDT
DTSTART:20260308T090000
END:DAYLIGHT
BEGIN:STANDARD
TZOFFSETFROM:-0600
TZOFFSETTO:-0700
TZNAME:MST
DTSTART:20261101T080000
END:STANDARD
END:VTIMEZONE
BEGIN:VEVENT
DTSTART;TZID=America/Boise:20251122T130000
DTEND;TZID=America/Boise:20251122T160000
DTSTAMP:20260425T095040
CREATED:20251117T215952Z
LAST-MODIFIED:20251117T215952Z
UID:6562-1763816400-1763827200@www.idahomuseum.org
SUMMARY:End of Season at the Museum
DESCRIPTION:The Idaho Museum of Mining and Geology (IMMG)\, 2455 Old Penitentiary Road\, will end visitations this year on Saturday\, November 22. Hours of operation are 1-4pm. Fear not\, the IMMG will re-open in March for Volunteer Orientation and regular visitations. The Museum is 15 feet from Old Pen\, on the same sidewalk. If you would like to visit the Museum before the season ends\, be sure to drop by on Saturday. Free Admission. \nWatch the IMMG’s calendar for winter field trips. There’s already one on the calendar for December 6. Check out our website to learn more. https://www.idahomuseum.org/events \nWe wish you all a Happy Thanksgiving.
URL:https://www.idahomuseum.org/event/end-of-season-at-the-museum/
LOCATION:Idaho Museum of Mining and Geology\, 2455 Old Penitentiary Road\, Boise\, ID\, 83712\, United States
CATEGORIES:Special Events
ATTACH;FMTTYPE=image/jpeg:https://www.idahomuseum.org/wp-content/uploads/2025/11/2018-05-28-14.37.54-3.jpg
END:VEVENT
END:VCALENDAR