BEGIN:VCALENDAR
VERSION:2.0
PRODID:-//Idaho Museum of Mining &amp; Geology - ECPv6.15.20//NONSGML v1.0//EN
CALSCALE:GREGORIAN
METHOD:PUBLISH
X-WR-CALNAME:Idaho Museum of Mining &amp; Geology
X-ORIGINAL-URL:https://www.idahomuseum.org
X-WR-CALDESC:Events for Idaho Museum of Mining &amp; Geology
REFRESH-INTERVAL;VALUE=DURATION:PT1H
X-Robots-Tag:noindex
X-PUBLISHED-TTL:PT1H
BEGIN:VTIMEZONE
TZID:America/Boise
BEGIN:DAYLIGHT
TZOFFSETFROM:-0700
TZOFFSETTO:-0600
TZNAME:MDT
DTSTART:20250309T090000
END:DAYLIGHT
BEGIN:STANDARD
TZOFFSETFROM:-0600
TZOFFSETTO:-0700
TZNAME:MST
DTSTART:20251102T080000
END:STANDARD
BEGIN:DAYLIGHT
TZOFFSETFROM:-0700
TZOFFSETTO:-0600
TZNAME:MDT
DTSTART:20260308T090000
END:DAYLIGHT
BEGIN:STANDARD
TZOFFSETFROM:-0600
TZOFFSETTO:-0700
TZNAME:MST
DTSTART:20261101T080000
END:STANDARD
BEGIN:DAYLIGHT
TZOFFSETFROM:-0700
TZOFFSETTO:-0600
TZNAME:MDT
DTSTART:20270314T090000
END:DAYLIGHT
BEGIN:STANDARD
TZOFFSETFROM:-0600
TZOFFSETTO:-0700
TZNAME:MST
DTSTART:20271107T080000
END:STANDARD
END:VTIMEZONE
BEGIN:VEVENT
DTSTART;TZID=America/Boise:20260504T000100
DTEND;TZID=America/Boise:20260507T235900
DTSTAMP:20260422T221110
CREATED:20260324T185732Z
LAST-MODIFIED:20260324T185732Z
UID:6706-1777852860-1778198340@www.idahomuseum.org
SUMMARY:Idaho Gives 2026
DESCRIPTION:Idaho Gives runs from May 4- midnight May 7. Early donating begins about a week before. Please mark your calendar. This year our goal is to raise $5\,000. The Idaho Museum of Mining and Geology (IMMG) is presenting a $2000 Match. \nWe greatly appreciate any contribution you choose to make. \nThis year’s donations will support exciting programs and activities for both children and adults including field trips\, lectures\, family activity days\, school tours and more. Please join our campaign and help us reach our goal. \nHow to Participate in Idaho Gives \nGet ready to give! On May 4-7\, 2026\, click on this direct link to the IMMG’s Idaho Gives page: https://www.idahogives.org/search?query=’idaho+museum+of+mining+and+geology \nThank You for Your Generosity! \nIf questions\, please contact Shirley at operations@idahomuseum.org  \n  \nSee the IMMG Eventbrite link for some cool photos of Idaho Gives: https://www.eventbrite.com/e/idaho-gives-may-4-midnight-may-7-tickets-1985646324609?aff=oddtdtcreator \n 
URL:https://www.idahomuseum.org/event/idaho-gives-2026/
LOCATION:Idaho Museum of Mining and Geology\, 2455 Old Penitentiary Road\, Boise\, ID\, 83712\, United States
CATEGORIES:Special Events
ATTACH;FMTTYPE=image/jpeg:https://www.idahomuseum.org/wp-content/uploads/2025/04/2018-07-25-11.48.47.jpg
END:VEVENT
END:VCALENDAR