BEGIN:VCALENDAR
VERSION:2.0
PRODID:-//Idaho Museum of Mining &amp; Geology - ECPv6.15.20//NONSGML v1.0//EN
CALSCALE:GREGORIAN
METHOD:PUBLISH
X-ORIGINAL-URL:https://www.idahomuseum.org
X-WR-CALDESC:Events for Idaho Museum of Mining &amp; Geology
REFRESH-INTERVAL;VALUE=DURATION:PT1H
X-Robots-Tag:noindex
X-PUBLISHED-TTL:PT1H
BEGIN:VTIMEZONE
TZID:America/Boise
BEGIN:DAYLIGHT
TZOFFSETFROM:-0700
TZOFFSETTO:-0600
TZNAME:MDT
DTSTART:20250309T090000
END:DAYLIGHT
BEGIN:STANDARD
TZOFFSETFROM:-0600
TZOFFSETTO:-0700
TZNAME:MST
DTSTART:20251102T080000
END:STANDARD
BEGIN:DAYLIGHT
TZOFFSETFROM:-0700
TZOFFSETTO:-0600
TZNAME:MDT
DTSTART:20260308T090000
END:DAYLIGHT
BEGIN:STANDARD
TZOFFSETFROM:-0600
TZOFFSETTO:-0700
TZNAME:MST
DTSTART:20261101T080000
END:STANDARD
BEGIN:DAYLIGHT
TZOFFSETFROM:-0700
TZOFFSETTO:-0600
TZNAME:MDT
DTSTART:20270314T090000
END:DAYLIGHT
BEGIN:STANDARD
TZOFFSETFROM:-0600
TZOFFSETTO:-0700
TZNAME:MST
DTSTART:20271107T080000
END:STANDARD
END:VTIMEZONE
BEGIN:VEVENT
DTSTART;TZID=America/Boise:20260531T130000
DTEND;TZID=America/Boise:20260531T140000
DTSTAMP:20260422T233813
CREATED:20260421T211123Z
LAST-MODIFIED:20260421T211123Z
UID:6731-1780232400-1780236000@www.idahomuseum.org
SUMMARY:Mineral Identification
DESCRIPTION:Need help identifying rocks you’ve found or purchased? Coyote Short\, Professional Geologist\, can identify rocks\, minerals\, fossils and Native American artifacts. Bring your specimens and she will help you identify them. Plus\, you’ll learn steps to identifying rocks and minerals. 1pm\, Idaho Museum of Mining and Geology\, 2455 Old Penitentiary Rd\, $5-General\, Free for IMMG members and kids. Pre-registration is required. https://www.eventbrite.com/e/mineral-identification-class-tickets-1987789758678?aff=oddtdtcreator                Please contact operations@idahomuseum.org if you have questions.
URL:https://www.idahomuseum.org/event/mineral-identification-6/
LOCATION:Idaho Museum of Mining and Geology\, 2455 Old Penitentiary Road\, Boise\, ID\, 83712\, United States
CATEGORIES:Special Events
ATTACH;FMTTYPE=image/jpeg:https://www.idahomuseum.org/wp-content/uploads/2026/04/20260329_131924.jpg
END:VEVENT
END:VCALENDAR