BEGIN:VCALENDAR
VERSION:2.0
PRODID:-//Idaho Museum of Mining &amp; Geology - ECPv6.15.20//NONSGML v1.0//EN
CALSCALE:GREGORIAN
METHOD:PUBLISH
X-WR-CALNAME:Idaho Museum of Mining &amp; Geology
X-ORIGINAL-URL:https://www.idahomuseum.org
X-WR-CALDESC:Events for Idaho Museum of Mining &amp; Geology
REFRESH-INTERVAL;VALUE=DURATION:PT1H
X-Robots-Tag:noindex
X-PUBLISHED-TTL:PT1H
BEGIN:VTIMEZONE
TZID:America/Boise
BEGIN:DAYLIGHT
TZOFFSETFROM:-0700
TZOFFSETTO:-0600
TZNAME:MDT
DTSTART:20250309T090000
END:DAYLIGHT
BEGIN:STANDARD
TZOFFSETFROM:-0600
TZOFFSETTO:-0700
TZNAME:MST
DTSTART:20251102T080000
END:STANDARD
BEGIN:DAYLIGHT
TZOFFSETFROM:-0700
TZOFFSETTO:-0600
TZNAME:MDT
DTSTART:20260308T090000
END:DAYLIGHT
BEGIN:STANDARD
TZOFFSETFROM:-0600
TZOFFSETTO:-0700
TZNAME:MST
DTSTART:20261101T080000
END:STANDARD
BEGIN:DAYLIGHT
TZOFFSETFROM:-0700
TZOFFSETTO:-0600
TZNAME:MDT
DTSTART:20270314T090000
END:DAYLIGHT
BEGIN:STANDARD
TZOFFSETFROM:-0600
TZOFFSETTO:-0700
TZNAME:MST
DTSTART:20271107T080000
END:STANDARD
END:VTIMEZONE
BEGIN:VEVENT
DTSTART;TZID=America/Boise:20260502T130000
DTEND;TZID=America/Boise:20260502T140000
DTSTAMP:20260422T233754
CREATED:20260318T220229Z
LAST-MODIFIED:20260324T190016Z
UID:6693-1777726800-1777730400@www.idahomuseum.org
SUMMARY:Discover the Secret Life of Rocks
DESCRIPTION:Learn what rocks are made of and how they are used every day. This is a fun event for kids. 1-2pm\, Idaho Museum of Mining and Geology\, 2455 Old Penitentiary Rd\, $5-General\, Free for IMMG members and kids. Pre-registration is required at: https://www.eventbrite.com/e/fun-with-rocks-tickets-1985463871888?aff=oddtdtcreator \nContact operations@idahomuseum.org if you have questions. \n 
URL:https://www.idahomuseum.org/event/fun-with-rocks/
LOCATION:Idaho Museum of Mining and Geology\, 2455 Old Penitentiary Road\, Boise\, ID\, 83712\, United States
CATEGORIES:Special Events,Workshop
ATTACH;FMTTYPE=image/jpeg:https://www.idahomuseum.org/wp-content/uploads/2026/03/2022-11-26-13.25.54.jpg
END:VEVENT
END:VCALENDAR