BEGIN:VCALENDAR
VERSION:2.0
PRODID:-//Idaho Museum of Mining &amp; Geology - ECPv6.15.20//NONSGML v1.0//EN
CALSCALE:GREGORIAN
METHOD:PUBLISH
X-WR-CALNAME:Idaho Museum of Mining &amp; Geology
X-ORIGINAL-URL:https://www.idahomuseum.org
X-WR-CALDESC:Events for Idaho Museum of Mining &amp; Geology
REFRESH-INTERVAL;VALUE=DURATION:PT1H
X-Robots-Tag:noindex
X-PUBLISHED-TTL:PT1H
BEGIN:VTIMEZONE
TZID:America/Boise
BEGIN:DAYLIGHT
TZOFFSETFROM:-0700
TZOFFSETTO:-0600
TZNAME:MDT
DTSTART:20240310T090000
END:DAYLIGHT
BEGIN:STANDARD
TZOFFSETFROM:-0600
TZOFFSETTO:-0700
TZNAME:MST
DTSTART:20241103T080000
END:STANDARD
BEGIN:DAYLIGHT
TZOFFSETFROM:-0700
TZOFFSETTO:-0600
TZNAME:MDT
DTSTART:20250309T090000
END:DAYLIGHT
BEGIN:STANDARD
TZOFFSETFROM:-0600
TZOFFSETTO:-0700
TZNAME:MST
DTSTART:20251102T080000
END:STANDARD
BEGIN:DAYLIGHT
TZOFFSETFROM:-0700
TZOFFSETTO:-0600
TZNAME:MDT
DTSTART:20260308T090000
END:DAYLIGHT
BEGIN:STANDARD
TZOFFSETFROM:-0600
TZOFFSETTO:-0700
TZNAME:MST
DTSTART:20261101T080000
END:STANDARD
END:VTIMEZONE
BEGIN:VEVENT
DTSTART;TZID=America/Boise:20251005T120000
DTEND;TZID=America/Boise:20251005T150000
DTSTAMP:20260421T092729
CREATED:20250916T205055Z
LAST-MODIFIED:20250916T205055Z
UID:6502-1759665600-1759676400@www.idahomuseum.org
SUMMARY:Gold Panning for All Ages
DESCRIPTION:Join in us in panning for gold! The Idaho Museum of Mining and Geology (IMMG) 2455 Old Penitentiary Rd. will set up this event in the courtyard of the Women’s Ward at the Old Pen. This Panning experience is provided by the outstanding Nampa Gold Prospectors. $5 for Adult nonmembers of the IMMG\, $5 Kids\, Museum Members and their kids FREE. Everyone must register even if you don’t pan for gold. Every child takes home a spec of gold. \nWomen in Mining and Society for Mining\, Metallurgy and Exploration (SME) will be set up with cool stuff for kids! Plus\, kids get a free mineral inside the Museum. Pre-registration is required at https://www.eventbrite.com/e/gold-panning-for-all-ages-oct-5-1200-300pm-tickets-1672082767569?aff=oddtdtcreator \n  \nPlease contact operations@idahomuseum.org if you have questions. \n  \n 
URL:https://www.idahomuseum.org/event/gold-panning-for-all-ages-3/
LOCATION:Idaho Museum of Mining and Geology\, 2455 Old Penitentiary Road\, Boise\, ID\, 83712\, United States
CATEGORIES:Special Events
ATTACH;FMTTYPE=image/jpeg:https://www.idahomuseum.org/wp-content/uploads/2025/04/2024-10-06-13.10.35.jpg
END:VEVENT
END:VCALENDAR