BEGIN:VCALENDAR
VERSION:2.0
PRODID:-//Idaho Museum of Mining &amp; Geology - ECPv6.15.20//NONSGML v1.0//EN
CALSCALE:GREGORIAN
METHOD:PUBLISH
X-WR-CALNAME:Idaho Museum of Mining &amp; Geology
X-ORIGINAL-URL:https://www.idahomuseum.org
X-WR-CALDESC:Events for Idaho Museum of Mining &amp; Geology
REFRESH-INTERVAL;VALUE=DURATION:PT1H
X-Robots-Tag:noindex
X-PUBLISHED-TTL:PT1H
BEGIN:VTIMEZONE
TZID:America/Boise
BEGIN:DAYLIGHT
TZOFFSETFROM:-0700
TZOFFSETTO:-0600
TZNAME:MDT
DTSTART:20250309T090000
END:DAYLIGHT
BEGIN:STANDARD
TZOFFSETFROM:-0600
TZOFFSETTO:-0700
TZNAME:MST
DTSTART:20251102T080000
END:STANDARD
BEGIN:DAYLIGHT
TZOFFSETFROM:-0700
TZOFFSETTO:-0600
TZNAME:MDT
DTSTART:20260308T090000
END:DAYLIGHT
BEGIN:STANDARD
TZOFFSETFROM:-0600
TZOFFSETTO:-0700
TZNAME:MST
DTSTART:20261101T080000
END:STANDARD
BEGIN:DAYLIGHT
TZOFFSETFROM:-0700
TZOFFSETTO:-0600
TZNAME:MDT
DTSTART:20270314T090000
END:DAYLIGHT
BEGIN:STANDARD
TZOFFSETFROM:-0600
TZOFFSETTO:-0700
TZNAME:MST
DTSTART:20271107T080000
END:STANDARD
END:VTIMEZONE
BEGIN:VEVENT
DTSTART;TZID=America/Boise:20260207T100000
DTEND;TZID=America/Boise:20260207T150000
DTSTAMP:20260422T233919
CREATED:20260111T182623Z
LAST-MODIFIED:20260111T182623Z
UID:6600-1770458400-1770476400@www.idahomuseum.org
SUMMARY:Shoofly Sand Pit (Fossils)
DESCRIPTION:Join Steve Schaps for a brand new geologic field trip to the Shoofly Sand Pit located about 70 miles from Boise.  The sand pit contains abundant small fossils from Lake Idaho deposits and odd sandstone sculptures that you collect off the surface. The IMMG also has an archeologist shaker table that people can use to sift sand for fossils (kids love doing this).  We will meet at the Albertsons Parking Lot on Hwy 21 and Federal Way at 9:45 AM (near McDonalds but not at McDonalds).  We will arrange carpools at this location. The roads are paved except for the last 1.7 miles\, which is a good quality dirt road suitable for most vehicles. \nWe will return to the carpool location at ~3 PM.  No dogs\, please. Sponsored by the Idaho Museum of Mining and Geology\, 2455 Old Penitentiary Rd. Boise.  Museum members-free; Non-members of the museum-$20/each plus Eventbrite fee. Please read all details on the link. Pre-registration is required. \nhttps://www.eventbrite.com/e/shoofly-sand-pit-fossils-tickets-1980134355160?aff=oddtdtcreator \n  \nContact operations@idahomuseum.org with questions. \n 
URL:https://www.idahomuseum.org/event/shoofly-sand-pit-fossils/
LOCATION:Bruneau\, Idaho
CATEGORIES:Field Trips,Special Events
ATTACH;FMTTYPE=image/jpeg:https://www.idahomuseum.org/wp-content/uploads/2026/01/SandPit1.jpeg
END:VEVENT
BEGIN:VEVENT
DTSTART;TZID=America/Boise:20260221T100000
DTEND;TZID=America/Boise:20260221T160000
DTSTAMP:20260422T233920
CREATED:20260121T221307Z
LAST-MODIFIED:20260121T233110Z
UID:6609-1771668000-1771689600@www.idahomuseum.org
SUMMARY:Bruneau Fossil Reef Field Trip
DESCRIPTION:Investigate the geology of Fossil Reef and Horse Hill with guide Barb Beatty. This area is 80 miles from Boise and has a lot of fossils\, petrified wood\, and Moqui Balls. We will meet in the Albertson’s Shopping Center parking lot at 9:45am\, for a 10am departure\, near McDonald’s Restaurant\, 6574 S Federal Way. From here Barb will facilitate carpools.  We will need some people with higher clearance vehicles to be carpool drivers. Limited people and cars. Sponsored by Idaho Museum of Mining and Geology\, 2455 Old Penitentiary Rd. Nonmembers of the Museum $20 plus Eventbrite fee\, Museum members and Children are free. Full refunds if the IMMG cancels the trip due to the weather. \nRead link for details and to PRE-REGISTER. https://www.eventbrite.com/e/bruneau-fossil-reef-geologic-field-trip-tickets-1981251040195?aff=oddtdtcreator \nPlease contact operations@idahomuseum.org if you have questions. \n 
URL:https://www.idahomuseum.org/event/bruneau-fossil-reef-field-trip-4/
LOCATION:Bruneau\, Idaho
CATEGORIES:Field Trips,Special Events
ATTACH;FMTTYPE=image/jpeg:https://www.idahomuseum.org/wp-content/uploads/2024/03/AlgalReef2.jpg
END:VEVENT
END:VCALENDAR