BEGIN:VCALENDAR
VERSION:2.0
PRODID:-//Idaho Museum of Mining &amp; Geology - ECPv6.15.20//NONSGML v1.0//EN
CALSCALE:GREGORIAN
METHOD:PUBLISH
X-ORIGINAL-URL:https://www.idahomuseum.org
X-WR-CALDESC:Events for Idaho Museum of Mining &amp; Geology
REFRESH-INTERVAL;VALUE=DURATION:PT1H
X-Robots-Tag:noindex
X-PUBLISHED-TTL:PT1H
BEGIN:VTIMEZONE
TZID:America/Boise
BEGIN:DAYLIGHT
TZOFFSETFROM:-0700
TZOFFSETTO:-0600
TZNAME:MDT
DTSTART:20240310T090000
END:DAYLIGHT
BEGIN:STANDARD
TZOFFSETFROM:-0600
TZOFFSETTO:-0700
TZNAME:MST
DTSTART:20241103T080000
END:STANDARD
BEGIN:DAYLIGHT
TZOFFSETFROM:-0700
TZOFFSETTO:-0600
TZNAME:MDT
DTSTART:20250309T090000
END:DAYLIGHT
BEGIN:STANDARD
TZOFFSETFROM:-0600
TZOFFSETTO:-0700
TZNAME:MST
DTSTART:20251102T080000
END:STANDARD
BEGIN:DAYLIGHT
TZOFFSETFROM:-0700
TZOFFSETTO:-0600
TZNAME:MDT
DTSTART:20260308T090000
END:DAYLIGHT
BEGIN:STANDARD
TZOFFSETFROM:-0600
TZOFFSETTO:-0700
TZNAME:MST
DTSTART:20261101T080000
END:STANDARD
END:VTIMEZONE
BEGIN:VEVENT
DTSTART;TZID=America/Boise:20251115T100000
DTEND;TZID=America/Boise:20251115T150000
DTSTAMP:20260423T040053
CREATED:20251015T211112Z
LAST-MODIFIED:20251114T193702Z
UID:6538-1763200800-1763218800@www.idahomuseum.org
SUMMARY:Bruneau Petrified Wood Geologic Field Trip
DESCRIPTION:This geologic field trip will be to a new area of Bruneau Petrified Wood. You can collect petrified wood and other fossils without any digging! We’ll be meeting to carpool from the Albertsons Parking Lot (near McDonalds but not at McDonalds) at 6574 S Federal Way and Hwy 21 at  9:45 AM\, departing at 10 AM. We will spend ~2 hours exploring a new area and picking up petrified wood\, having lunch and then return to One-Stop and finally to the meetup location by 3-4 PM. Sponsored by Idaho Museum of Mining and Geology (IMMG)\, 2455 Old Penitentiary Rd. Nonmembers of the IMMG $20 plus Eventbrite fee\, IMMG Members and Children are free. Pre-registration is required Full refunds if the IMMG cancels the trip due to the weather.\nPre-registration is required. Read link for important details. https://www.eventbrite.com/e/bruneau-petrified-wood-geologic-field-trip-tickets-1825868575059?aff=oddtdtcreator \nContact operations@idahomuseum.org if you have questions. \n 
URL:https://www.idahomuseum.org/event/bruneau-petrified-wood-geologic-field-trip/
LOCATION:Bruneau\, Idaho
CATEGORIES:Field Trips,Special Events
ATTACH;FMTTYPE=image/jpeg:https://www.idahomuseum.org/wp-content/uploads/2025/03/PetrifiedWood1.jpg
END:VEVENT
END:VCALENDAR