BEGIN:VCALENDAR
VERSION:2.0
PRODID:-//Idaho Museum of Mining &amp; Geology - ECPv6.15.20//NONSGML v1.0//EN
CALSCALE:GREGORIAN
METHOD:PUBLISH
X-ORIGINAL-URL:https://www.idahomuseum.org
X-WR-CALDESC:Events for Idaho Museum of Mining &amp; Geology
REFRESH-INTERVAL;VALUE=DURATION:PT1H
X-Robots-Tag:noindex
X-PUBLISHED-TTL:PT1H
BEGIN:VTIMEZONE
TZID:America/Boise
BEGIN:DAYLIGHT
TZOFFSETFROM:-0700
TZOFFSETTO:-0600
TZNAME:MDT
DTSTART:20240310T090000
END:DAYLIGHT
BEGIN:STANDARD
TZOFFSETFROM:-0600
TZOFFSETTO:-0700
TZNAME:MST
DTSTART:20241103T080000
END:STANDARD
BEGIN:DAYLIGHT
TZOFFSETFROM:-0700
TZOFFSETTO:-0600
TZNAME:MDT
DTSTART:20250309T090000
END:DAYLIGHT
BEGIN:STANDARD
TZOFFSETFROM:-0600
TZOFFSETTO:-0700
TZNAME:MST
DTSTART:20251102T080000
END:STANDARD
BEGIN:DAYLIGHT
TZOFFSETFROM:-0700
TZOFFSETTO:-0600
TZNAME:MDT
DTSTART:20260308T090000
END:DAYLIGHT
BEGIN:STANDARD
TZOFFSETFROM:-0600
TZOFFSETTO:-0700
TZNAME:MST
DTSTART:20261101T080000
END:STANDARD
END:VTIMEZONE
BEGIN:VEVENT
DTSTART;TZID=America/Boise:20250612T074500
DTEND;TZID=America/Boise:20250612T100000
DTSTAMP:20260422T065409
CREATED:20250612T214509Z
LAST-MODIFIED:20250612T214509Z
UID:6429-1749714300-1749722400@www.idahomuseum.org
SUMMARY:Geology Hike to Eagle Rock
DESCRIPTION:Eliza Schulz will meet hikers at 7:45am within steps of the IMMG in the Old Pen dirt parking lot near the Ridge to Rivers trail sign. She will lead you up the hillside at a relaxed pace. At various points she will talk about the features of the hillside\, the type of rocks\, how the hills were formed\, what produced the Treasure Valley below and more. \nThe geo-hike is appropriate for children and adults who can walk/hike for up to 2 hours. Because of summer heat\, the hike will end by 10:00am. \nPlease wear comfortable walking shoes\, wear a sun hat\, bring your own water and dress for the weather. Eliza will be at the trailhead by 7:45am and she’ll leave with hikers at 8:00am. \nEveryone must pre-register. https://www.eventbrite.com/e/geology-hike-to-eagle-rock-tickets-1335936545169?aff=oddtdtcreator \nEliza served as the IMMG’s Education Director for seven years\, retiring 2 years ago to raise her 2 children. She has a BS in Geology from BSU and continues to volunteer at the IMMG and serves as Vice President of the Board of Trustees. Eliza is recognized as an excellent teacher of the earth sciences so you won’t want to miss this hike. \nIf you have questions\, please operations@idahomuseum.org.
URL:https://www.idahomuseum.org/event/geology-hike-to-eagle-rock-2/
LOCATION:Idaho Museum of Mining and Geology\, 2455 Old Penitentiary Road\, Boise\, ID\, 83712\, United States
CATEGORIES:Field Trips,Special Events
ATTACH;FMTTYPE=image/jpeg:https://www.idahomuseum.org/wp-content/uploads/2024/05/20230611_114512-scaled.jpg
END:VEVENT
END:VCALENDAR