BEGIN:VCALENDAR
VERSION:2.0
PRODID:-//Idaho Museum of Mining &amp; Geology - ECPv6.15.20//NONSGML v1.0//EN
CALSCALE:GREGORIAN
METHOD:PUBLISH
X-ORIGINAL-URL:https://www.idahomuseum.org
X-WR-CALDESC:Events for Idaho Museum of Mining &amp; Geology
REFRESH-INTERVAL;VALUE=DURATION:PT1H
X-Robots-Tag:noindex
X-PUBLISHED-TTL:PT1H
BEGIN:VTIMEZONE
TZID:America/Boise
BEGIN:DAYLIGHT
TZOFFSETFROM:-0700
TZOFFSETTO:-0600
TZNAME:MDT
DTSTART:20240310T090000
END:DAYLIGHT
BEGIN:STANDARD
TZOFFSETFROM:-0600
TZOFFSETTO:-0700
TZNAME:MST
DTSTART:20241103T080000
END:STANDARD
BEGIN:DAYLIGHT
TZOFFSETFROM:-0700
TZOFFSETTO:-0600
TZNAME:MDT
DTSTART:20250309T090000
END:DAYLIGHT
BEGIN:STANDARD
TZOFFSETFROM:-0600
TZOFFSETTO:-0700
TZNAME:MST
DTSTART:20251102T080000
END:STANDARD
BEGIN:DAYLIGHT
TZOFFSETFROM:-0700
TZOFFSETTO:-0600
TZNAME:MDT
DTSTART:20260308T090000
END:DAYLIGHT
BEGIN:STANDARD
TZOFFSETFROM:-0600
TZOFFSETTO:-0700
TZNAME:MST
DTSTART:20261101T080000
END:STANDARD
END:VTIMEZONE
BEGIN:VEVENT
DTSTART;TZID=America/Boise:20250712T074500
DTEND;TZID=America/Boise:20250712T100000
DTSTAMP:20260422T140939
CREATED:20250615T220711Z
LAST-MODIFIED:20250615T220711Z
UID:6432-1752306300-1752314400@www.idahomuseum.org
SUMMARY:Geology Hike to Eagle Rock
DESCRIPTION:Eliza Schulz will meet hikers at 7:45am within steps of the IMMG in the Old Pen dirt parking lot near the Ridge to Rivers trail sign. She will lead you up the hillside at a relaxed pace. At various points she will talk about the features of the hillside\, the type of rocks\, how the hills were formed\, what produced the Treasure Valley below and more. The geo-hike is appropriate for children and adults who can walk/hike for up to 2 hours. Because of summer heat\, the hike will end by 10:00am. Please read more detail in the link. Everyone must pre-register: \nhttps://www.eventbrite.com/e/geology-hike-to-eagle-rock-tickets-1335936545169?aff=oddtdtcreator \nContact operations@idahomuseum.org if you have questions \n 
URL:https://www.idahomuseum.org/event/geology-hike-to-eagle-rock-3/
LOCATION:Idaho Museum of Mining and Geology\, 2455 Old Penitentiary Road\, Boise\, ID\, 83712\, United States
CATEGORIES:Field Trips,Special Events
ATTACH;FMTTYPE=image/jpeg:https://www.idahomuseum.org/wp-content/uploads/2024/05/20230611_114512-scaled.jpg
END:VEVENT
END:VCALENDAR