BEGIN:VCALENDAR
VERSION:2.0
PRODID:-//Idaho Museum of Mining &amp; Geology - ECPv6.15.20//NONSGML v1.0//EN
CALSCALE:GREGORIAN
METHOD:PUBLISH
X-ORIGINAL-URL:https://www.idahomuseum.org
X-WR-CALDESC:Events for Idaho Museum of Mining &amp; Geology
REFRESH-INTERVAL;VALUE=DURATION:PT1H
X-Robots-Tag:noindex
X-PUBLISHED-TTL:PT1H
BEGIN:VTIMEZONE
TZID:America/Boise
BEGIN:DAYLIGHT
TZOFFSETFROM:-0700
TZOFFSETTO:-0600
TZNAME:MDT
DTSTART:20240310T090000
END:DAYLIGHT
BEGIN:STANDARD
TZOFFSETFROM:-0600
TZOFFSETTO:-0700
TZNAME:MST
DTSTART:20241103T080000
END:STANDARD
BEGIN:DAYLIGHT
TZOFFSETFROM:-0700
TZOFFSETTO:-0600
TZNAME:MDT
DTSTART:20250309T090000
END:DAYLIGHT
BEGIN:STANDARD
TZOFFSETFROM:-0600
TZOFFSETTO:-0700
TZNAME:MST
DTSTART:20251102T080000
END:STANDARD
BEGIN:DAYLIGHT
TZOFFSETFROM:-0700
TZOFFSETTO:-0600
TZNAME:MDT
DTSTART:20260308T090000
END:DAYLIGHT
BEGIN:STANDARD
TZOFFSETFROM:-0600
TZOFFSETTO:-0700
TZNAME:MST
DTSTART:20261101T080000
END:STANDARD
END:VTIMEZONE
BEGIN:VEVENT
DTSTART;TZID=America/Boise:20251206T100000
DTEND;TZID=America/Boise:20251206T160000
DTSTAMP:20260423T074623
CREATED:20251107T213628Z
LAST-MODIFIED:20251114T192048Z
UID:6555-1765015200-1765036800@www.idahomuseum.org
SUMMARY:Bruneau Fossil Reef Field Trip
DESCRIPTION:Investigate the geology of Fossil Reef and Horse Hill with guide Steve Schaps. This area is 80 miles from Boise and has a lot of fossils\, petrified wood\, and Moqui Balls. We will meet in the Albertson’s Shopping Center parking lot at 9:45am\, for a 10am departure\, near McDonald’s Restaurant\, 6574 S Federal Way. From here Steve will facilitate carpools.  We will need some people with higher clearance vehicles to be carpool drivers. Limited people and cars. Sponsored by Idaho Museum of Mining and Geology\, 2455 Old Penitentiary Rd. Nonmembers of the Museum $20\, Museum members and Children are free. \n  \nPre-registration required: https://www.eventbrite.com/e/bruneau-fossil-reef-geologic-field-trip-tickets-1965613034499?aff=oddtdtcreator \n  \nFull refunds if the IMMG cancels the trip due to the weather. Read link for details. \nPlease contact operations@idahomuseum.org if you have questions.
URL:https://www.idahomuseum.org/event/bruneau-fossil-reef-field-trip-3/
CATEGORIES:Field Trips,Special Events
ATTACH;FMTTYPE=image/jpeg:https://www.idahomuseum.org/wp-content/uploads/2025/11/Steve-Schaps-Horse-Hill.jpg
END:VEVENT
END:VCALENDAR