BEGIN:VCALENDAR
VERSION:2.0
PRODID:-//Idaho Museum of Mining &amp; Geology - ECPv6.15.20//NONSGML v1.0//EN
CALSCALE:GREGORIAN
METHOD:PUBLISH
X-ORIGINAL-URL:https://www.idahomuseum.org
X-WR-CALDESC:Events for Idaho Museum of Mining &amp; Geology
REFRESH-INTERVAL;VALUE=DURATION:PT1H
X-Robots-Tag:noindex
X-PUBLISHED-TTL:PT1H
BEGIN:VTIMEZONE
TZID:America/Boise
BEGIN:DAYLIGHT
TZOFFSETFROM:-0700
TZOFFSETTO:-0600
TZNAME:MDT
DTSTART:20250309T090000
END:DAYLIGHT
BEGIN:STANDARD
TZOFFSETFROM:-0600
TZOFFSETTO:-0700
TZNAME:MST
DTSTART:20251102T080000
END:STANDARD
BEGIN:DAYLIGHT
TZOFFSETFROM:-0700
TZOFFSETTO:-0600
TZNAME:MDT
DTSTART:20260308T090000
END:DAYLIGHT
BEGIN:STANDARD
TZOFFSETFROM:-0600
TZOFFSETTO:-0700
TZNAME:MST
DTSTART:20261101T080000
END:STANDARD
BEGIN:DAYLIGHT
TZOFFSETFROM:-0700
TZOFFSETTO:-0600
TZNAME:MDT
DTSTART:20270314T090000
END:DAYLIGHT
BEGIN:STANDARD
TZOFFSETFROM:-0600
TZOFFSETTO:-0700
TZNAME:MST
DTSTART:20271107T080000
END:STANDARD
END:VTIMEZONE
BEGIN:VEVENT
DTSTART;TZID=America/Boise:20260530T090000
DTEND;TZID=America/Boise:20260530T170000
DTSTAMP:20260421T122431
CREATED:20260404T185822Z
LAST-MODIFIED:20260404T185822Z
UID:6728-1780131600-1780160400@www.idahomuseum.org
SUMMARY:Anderson Ranch Dam and Nearby Sites: Driving Tour
DESCRIPTION:Join Dr. Terry Panhorst for a tour of some spectacular scenery and geology at the southern end of Boise National Forest. You’ll see granite\, basalt\, and rhyolite\, plus learn interesting history of the dam construction and its builders. Meetup is at 8:45 AM in the Albertson’s Shopping Center parking lot near McDonald’s Restaurant\, 6574 S Federal Way for a 9 AM departure. Trip is limited to 8 vehicles\, so we’ll be carpooling. Periodic restroom stops along the route. Home between 4-5 PM. Nonmembers of the Museum $20 plus Eventbrite fee; Museum members and children free. Full refund if the Museum cancels the trip. Registration is required. Details in the link: https://www.eventbrite.com/e/anderson-ranch-dam-and-nearby-sites-driving-tour-tickets-1985867639568?aff=oddtdtcreator \nSponsored by the Idaho Museum of Mining and Geology. Please contact operations@idahomuseum.org if questions. \n 
URL:https://www.idahomuseum.org/event/anderson-ranch-dam-and-nearby-sites-driving-tour/
LOCATION:Idaho Museum of Mining and Geology\, 2455 Old Penitentiary Road\, Boise\, ID\, 83712\, United States
CATEGORIES:Field Trips,Special Events
ATTACH;FMTTYPE=image/jpeg:https://www.idahomuseum.org/wp-content/uploads/2025/08/Anderson-Ranch-Dam.jpg
END:VEVENT
END:VCALENDAR