BEGIN:VCALENDAR
VERSION:2.0
PRODID:-//Idaho Museum of Mining &amp; Geology - ECPv6.15.20//NONSGML v1.0//EN
CALSCALE:GREGORIAN
METHOD:PUBLISH
X-WR-CALNAME:Idaho Museum of Mining &amp; Geology
X-ORIGINAL-URL:https://www.idahomuseum.org
X-WR-CALDESC:Events for Idaho Museum of Mining &amp; Geology
REFRESH-INTERVAL;VALUE=DURATION:PT1H
X-Robots-Tag:noindex
X-PUBLISHED-TTL:PT1H
BEGIN:VTIMEZONE
TZID:America/Boise
BEGIN:DAYLIGHT
TZOFFSETFROM:-0700
TZOFFSETTO:-0600
TZNAME:MDT
DTSTART:20240310T090000
END:DAYLIGHT
BEGIN:STANDARD
TZOFFSETFROM:-0600
TZOFFSETTO:-0700
TZNAME:MST
DTSTART:20241103T080000
END:STANDARD
BEGIN:DAYLIGHT
TZOFFSETFROM:-0700
TZOFFSETTO:-0600
TZNAME:MDT
DTSTART:20250309T090000
END:DAYLIGHT
BEGIN:STANDARD
TZOFFSETFROM:-0600
TZOFFSETTO:-0700
TZNAME:MST
DTSTART:20251102T080000
END:STANDARD
BEGIN:DAYLIGHT
TZOFFSETFROM:-0700
TZOFFSETTO:-0600
TZNAME:MDT
DTSTART:20260308T090000
END:DAYLIGHT
BEGIN:STANDARD
TZOFFSETFROM:-0600
TZOFFSETTO:-0700
TZNAME:MST
DTSTART:20261101T080000
END:STANDARD
END:VTIMEZONE
BEGIN:VEVENT
DTSTART;TZID=America/Boise:20250426T100000
DTEND;TZID=America/Boise:20250426T113000
DTSTAMP:20260424T093545
CREATED:20250403T201738Z
LAST-MODIFIED:20250406T193431Z
UID:6360-1745661600-1745667000@www.idahomuseum.org
SUMMARY:STEAM Morning at the Museum
DESCRIPTION:Explore & Discover at the Museum! \nJoin us for an exciting\, hands-on event designed for individual participants to explore the museum and engage with various STEAM stations. Perfect for learners of all ages\, this event features activities in Science\, Technology\, Engineering\, Art\, and Math! \nhttps://www.eventbrite.com/e/steam-morning-at-the-museum-tickets-1310652921169?aff=oddtdtcreator \nPlease contact education@idahomuseum.org if you have questions. \nSpread the word! \n 
URL:https://www.idahomuseum.org/event/steam-morning-at-the-museum/
LOCATION:Idaho Museum of Mining and Geology\, 2455 Old Penitentiary Road\, Boise\, ID\, 83712\, United States
CATEGORIES:Special Events,STEAM
ATTACH;FMTTYPE=image/jpeg:https://www.idahomuseum.org/wp-content/uploads/2025/04/2018-07-25-11.48.47.jpg
END:VEVENT
END:VCALENDAR