BEGIN:VCALENDAR
VERSION:2.0
PRODID:-//Idaho Museum of Mining &amp; Geology - ECPv6.15.20//NONSGML v1.0//EN
CALSCALE:GREGORIAN
METHOD:PUBLISH
X-ORIGINAL-URL:https://www.idahomuseum.org
X-WR-CALDESC:Events for Idaho Museum of Mining &amp; Geology
REFRESH-INTERVAL;VALUE=DURATION:PT1H
X-Robots-Tag:noindex
X-PUBLISHED-TTL:PT1H
BEGIN:VTIMEZONE
TZID:America/Boise
BEGIN:DAYLIGHT
TZOFFSETFROM:-0700
TZOFFSETTO:-0600
TZNAME:MDT
DTSTART:20250309T090000
END:DAYLIGHT
BEGIN:STANDARD
TZOFFSETFROM:-0600
TZOFFSETTO:-0700
TZNAME:MST
DTSTART:20251102T080000
END:STANDARD
BEGIN:DAYLIGHT
TZOFFSETFROM:-0700
TZOFFSETTO:-0600
TZNAME:MDT
DTSTART:20260308T090000
END:DAYLIGHT
BEGIN:STANDARD
TZOFFSETFROM:-0600
TZOFFSETTO:-0700
TZNAME:MST
DTSTART:20261101T080000
END:STANDARD
BEGIN:DAYLIGHT
TZOFFSETFROM:-0700
TZOFFSETTO:-0600
TZNAME:MDT
DTSTART:20270314T090000
END:DAYLIGHT
BEGIN:STANDARD
TZOFFSETFROM:-0600
TZOFFSETTO:-0700
TZNAME:MST
DTSTART:20271107T080000
END:STANDARD
END:VTIMEZONE
BEGIN:VEVENT
DTSTART;TZID=America/Boise:20260322T130000
DTEND;TZID=America/Boise:20260322T140000
DTSTAMP:20260421T092649
CREATED:20260201T195945Z
LAST-MODIFIED:20260201T195945Z
UID:6630-1774184400-1774188000@www.idahomuseum.org
SUMMARY:Water\, Snowpack and Drought
DESCRIPTION:The presentation will cover this year’s snowpack and projected water supplies or shortages. We’ll look at early seasonal outlooks for this winter and see how analog years are selected and used to help predict what may happen. The lecture is presented by Ron Abramovich\, Idaho Water Supply Specialist\, Retired. 1:00 PM\, Idaho Museum of Mining and Geology\, 2455 Old Penitentiary Rd\, $5-General\, Free for IMMG members and kids\, Pre-registration is required at: \nhttps://www.eventbrite.com/e/snowpack-water-and-drought-whats-up-with-the-weather-tickets-1982049269721?aff=oddtdtcreator \nPlease contact operations@idahomuseum.org if you have questions.
URL:https://www.idahomuseum.org/event/water-snowpack-and-drought/
LOCATION:Idaho Museum of Mining and Geology\, 2455 Old Penitentiary Road\, Boise\, ID\, 83712\, United States
CATEGORIES:Lectures,Special Events
ATTACH;FMTTYPE=image/jpeg:https://www.idahomuseum.org/wp-content/uploads/2026/02/nice-light-Feb2019-2.jpg
END:VEVENT
END:VCALENDAR